BEGIN:VCALENDAR
VERSION:2.0
PRODID:-//Egmos - Le site de l&#039;entraide aux greffés de moelle osseuse - ECPv5.12.3//NONSGML v1.0//EN
CALSCALE:GREGORIAN
METHOD:PUBLISH
X-WR-CALNAME:Egmos - Le site de l&#039;entraide aux greffés de moelle osseuse
X-ORIGINAL-URL:https://www.egmos.org
X-WR-CALDESC:évènements pour Egmos - Le site de l&#039;entraide aux greffés de moelle osseuse
BEGIN:VTIMEZONE
TZID:Europe/Paris
BEGIN:DAYLIGHT
TZOFFSETFROM:+0100
TZOFFSETTO:+0200
TZNAME:CEST
DTSTART:20190331T010000
END:DAYLIGHT
BEGIN:STANDARD
TZOFFSETFROM:+0200
TZOFFSETTO:+0100
TZNAME:CET
DTSTART:20191027T010000
END:STANDARD
END:VTIMEZONE
BEGIN:VEVENT
DTSTART;TZID=Europe/Paris:20191203T083000
DTEND;TZID=Europe/Paris:20191203T160000
DTSTAMP:20260421T104451
CREATED:20191109T195603Z
LAST-MODIFIED:20191109T195851Z
UID:3854-1575361800-1575388800@www.egmos.org
SUMMARY:MARCHE DE NOËL
DESCRIPTION:
URL:https://www.egmos.org/event/marche-de-noel-4/
LOCATION:Hôpital Saint Louis\, 1 avenue Claude Vellefaux\, Paris\, 75475\, France
END:VEVENT
END:VCALENDAR