BEGIN:VCALENDAR
VERSION:2.0
PRODID:-//Egmos - Le site de l&#039;entraide aux greffés de moelle osseuse - ECPv5.12.3//NONSGML v1.0//EN
CALSCALE:GREGORIAN
METHOD:PUBLISH
X-WR-CALNAME:Egmos - Le site de l&#039;entraide aux greffés de moelle osseuse
X-ORIGINAL-URL:https://www.egmos.org
X-WR-CALDESC:évènements pour Egmos - Le site de l&#039;entraide aux greffés de moelle osseuse
BEGIN:VTIMEZONE
TZID:Europe/Paris
BEGIN:DAYLIGHT
TZOFFSETFROM:+0100
TZOFFSETTO:+0200
TZNAME:CEST
DTSTART:20250330T010000
END:DAYLIGHT
BEGIN:STANDARD
TZOFFSETFROM:+0200
TZOFFSETTO:+0100
TZNAME:CET
DTSTART:20251026T010000
END:STANDARD
END:VTIMEZONE
BEGIN:VEVENT
DTSTART;TZID=Europe/Paris:20251202T090000
DTEND;TZID=Europe/Paris:20251202T163000
DTSTAMP:20260421T022315
CREATED:20250328T140345Z
LAST-MODIFIED:20250328T140557Z
UID:5475-1764666000-1764693000@www.egmos.org
SUMMARY:MARCHÉ DE NOËL
DESCRIPTION:
URL:https://www.egmos.org/event/marche-de-noel-5/
LOCATION:Hôpital Saint Louis\, 1 avenue Claude Vellefaux\, Paris\, 75475\, France
END:VEVENT
END:VCALENDAR