BEGIN:VCALENDAR
VERSION:2.0
PRODID:-//Egmos - Le site de l&#039;entraide aux greffés de moelle osseuse - ECPv5.12.3//NONSGML v1.0//EN
CALSCALE:GREGORIAN
METHOD:PUBLISH
X-WR-CALNAME:Egmos - Le site de l&#039;entraide aux greffés de moelle osseuse
X-ORIGINAL-URL:https://www.egmos.org
X-WR-CALDESC:évènements pour Egmos - Le site de l&#039;entraide aux greffés de moelle osseuse
BEGIN:VTIMEZONE
TZID:Europe/Paris
BEGIN:DAYLIGHT
TZOFFSETFROM:+0100
TZOFFSETTO:+0200
TZNAME:CEST
DTSTART:20250330T010000
END:DAYLIGHT
BEGIN:STANDARD
TZOFFSETFROM:+0200
TZOFFSETTO:+0100
TZNAME:CET
DTSTART:20251026T010000
END:STANDARD
END:VTIMEZONE
BEGIN:VEVENT
DTSTART;VALUE=DATE:20251001
DTEND;VALUE=DATE:20251002
DTSTAMP:20260420T230007
CREATED:20250930T155544Z
LAST-MODIFIED:20250930T155544Z
UID:5575-1759276800-1759363199@www.egmos.org
SUMMARY:MOBILISATION A L’ÉCOLE DES MINES PARIS
DESCRIPTION:
URL:https://www.egmos.org/event/mobilisation-a-lecole-des-mines-paris/
CATEGORIES:Information
END:VEVENT
END:VCALENDAR