BEGIN:VCALENDAR
VERSION:2.0
PRODID:-//Egmos - Le site de l&#039;entraide aux greffés de moelle osseuse - ECPv5.12.3//NONSGML v1.0//EN
CALSCALE:GREGORIAN
METHOD:PUBLISH
X-WR-CALNAME:Egmos - Le site de l&#039;entraide aux greffés de moelle osseuse
X-ORIGINAL-URL:https://www.egmos.org
X-WR-CALDESC:évènements pour Egmos - Le site de l&#039;entraide aux greffés de moelle osseuse
BEGIN:VTIMEZONE
TZID:Europe/Paris
BEGIN:DAYLIGHT
TZOFFSETFROM:+0100
TZOFFSETTO:+0200
TZNAME:CEST
DTSTART:20250330T010000
END:DAYLIGHT
BEGIN:STANDARD
TZOFFSETFROM:+0200
TZOFFSETTO:+0100
TZNAME:CET
DTSTART:20251026T010000
END:STANDARD
END:VTIMEZONE
BEGIN:VEVENT
DTSTART;VALUE=DATE:20251024
DTEND;VALUE=DATE:20251025
DTSTAMP:20260421T005109
CREATED:20251028T134839Z
LAST-MODIFIED:20251028T135012Z
UID:5609-1761264000-1761350399@www.egmos.org
SUMMARY:SENSIBILISATION AU DON DE MOELLE OSSEUSE EFS VERSAILLES
DESCRIPTION:Mobilisation auprès des donneurs de sang à la Maison du Don de l’EFS Versailles.
URL:https://www.egmos.org/event/sensibilisation-a-lefs-versailles/
END:VEVENT
END:VCALENDAR